BEGIN:VCALENDAR
VERSION:2.0
PRODID:-//www.gramonet.cz//GramonetCalLib 1.0//EN
CALSCALE:GREGORIAN
METHOD:PUBLISH
BEGIN:VEVENT
SUMMARY:Jitka Jelínková - vernisáž
LOCATION:Výstavní síň
DTSTART:20230117T000000
DTEND:20230220T000000
UID:2026-04-19-21-04-56@infocaslav.cz
DTSTAMP:20260419T190456
Description:
END:VEVENT
END:VCALENDAR
